BEGIN:VCALENDAR
VERSION:2.0
PRODID:-//Queens Symphony Orchestra - ECPv6.15.20//NONSGML v1.0//EN
CALSCALE:GREGORIAN
METHOD:PUBLISH
X-WR-CALNAME:Queens Symphony Orchestra
X-ORIGINAL-URL:https://www.queenssymphony.org
X-WR-CALDESC:Events for Queens Symphony Orchestra
REFRESH-INTERVAL;VALUE=DURATION:PT1H
X-Robots-Tag:noindex
X-PUBLISHED-TTL:PT1H
BEGIN:VTIMEZONE
TZID:America/New_York
BEGIN:DAYLIGHT
TZOFFSETFROM:-0500
TZOFFSETTO:-0400
TZNAME:EDT
DTSTART:20210314T070000
END:DAYLIGHT
BEGIN:STANDARD
TZOFFSETFROM:-0400
TZOFFSETTO:-0500
TZNAME:EST
DTSTART:20211107T060000
END:STANDARD
BEGIN:DAYLIGHT
TZOFFSETFROM:-0500
TZOFFSETTO:-0400
TZNAME:EDT
DTSTART:20220313T070000
END:DAYLIGHT
BEGIN:STANDARD
TZOFFSETFROM:-0400
TZOFFSETTO:-0500
TZNAME:EST
DTSTART:20221106T060000
END:STANDARD
BEGIN:DAYLIGHT
TZOFFSETFROM:-0500
TZOFFSETTO:-0400
TZNAME:EDT
DTSTART:20230312T070000
END:DAYLIGHT
BEGIN:STANDARD
TZOFFSETFROM:-0400
TZOFFSETTO:-0500
TZNAME:EST
DTSTART:20231105T060000
END:STANDARD
END:VTIMEZONE
BEGIN:VEVENT
DTSTART;TZID=America/New_York:20220728T190000
DTEND;TZID=America/New_York:20220728T210000
DTSTAMP:20260423T102007
CREATED:20220601T014935Z
LAST-MODIFIED:20220924T163929Z
UID:1373-1659034800-1659042000@www.queenssymphony.org
SUMMARY:22nd Annual Summer Concert at St. John's University Great Lawn
DESCRIPTION:  \n \n 
URL:https://www.queenssymphony.org/event/22nd-annual-summer-concert-at-st-johns-university-great-lawn/
LOCATION:St. John’s University\, Great Lawn\, 8000 Utopia Pkwy\, Jamaica\, NY\, 11439\, United States
END:VEVENT
END:VCALENDAR