BEGIN:VCALENDAR
VERSION:2.0
PRODID:-//Queens Symphony Orchestra - ECPv6.15.20//NONSGML v1.0//EN
CALSCALE:GREGORIAN
METHOD:PUBLISH
X-ORIGINAL-URL:https://www.queenssymphony.org
X-WR-CALDESC:Events for Queens Symphony Orchestra
REFRESH-INTERVAL;VALUE=DURATION:PT1H
X-Robots-Tag:noindex
X-PUBLISHED-TTL:PT1H
BEGIN:VTIMEZONE
TZID:America/New_York
BEGIN:DAYLIGHT
TZOFFSETFROM:-0500
TZOFFSETTO:-0400
TZNAME:EDT
DTSTART:20220313T070000
END:DAYLIGHT
BEGIN:STANDARD
TZOFFSETFROM:-0400
TZOFFSETTO:-0500
TZNAME:EST
DTSTART:20221106T060000
END:STANDARD
BEGIN:DAYLIGHT
TZOFFSETFROM:-0500
TZOFFSETTO:-0400
TZNAME:EDT
DTSTART:20230312T070000
END:DAYLIGHT
BEGIN:STANDARD
TZOFFSETFROM:-0400
TZOFFSETTO:-0500
TZNAME:EST
DTSTART:20231105T060000
END:STANDARD
BEGIN:DAYLIGHT
TZOFFSETFROM:-0500
TZOFFSETTO:-0400
TZNAME:EDT
DTSTART:20240310T070000
END:DAYLIGHT
BEGIN:STANDARD
TZOFFSETFROM:-0400
TZOFFSETTO:-0500
TZNAME:EST
DTSTART:20241103T060000
END:STANDARD
END:VTIMEZONE
BEGIN:VEVENT
DTSTART;TZID=America/New_York:20230604T150000
DTEND;TZID=America/New_York:20230604T163000
DTSTAMP:20260422T172816
CREATED:20230405T203902Z
LAST-MODIFIED:20230522T052431Z
UID:1519-1685890800-1685896200@www.queenssymphony.org
SUMMARY:THE MYSTERY OF MUSIC - A CONCERT FOR CHILDREN OF ALL AGES!
DESCRIPTION:Join Maestro Martin Majkut and the Queens Symphony Orchestra as together with our audience we explore and experience  \n“THE MYSTERY OF MUSIC” \nJoin Maestro Martin Majkut and the Queens Symphony Orchestra for “The Mystery of Music”\, a highly interactive concert for young people and their families that explores the fundamental elements of the orchestra through Lemony Snicket’s “The Composer is Dead” and more. This concert will be narrated by Queens native Mateo Lizcano\, star of Broadway’s Dear Evan Hansen. Music has the power to invigorate our imagination\, and this show will invite our youngest concert goers to experience this first hand. \nMateo Lizcano is an actor based in Queens\, New York. He is the 2021 Roger Rees Awards Best Actor and a 2021 Jimmy Awards Best Actor finalist. Shortly after participating in the Roger Rees and Jimmy Awards\, Mateo joined the Broadway company of Dear Evan Hansen as a Evan/Jared/Connor understudy. After making his Broadway Debut as Evan Hansen\, he later became the Evan Alternate performing on Broadway twice a week. Some of his other credits include: Sincerely\, Mateo (54 Below Solo Show Debut)\, Trevor (2020 Cast & Workshop\, Jason)\, The Bitter Sweets/Kimberly Akimbo (Workshop\, Martin)\, Christmas Spectacular (Patrick). TV: “The Deuce.” \nStookey & Snicket: The Composer is Dead \nAdmission is FREE with Online RSVP \nTO RESERVE CLICK HERE
URL:https://www.queenssymphony.org/event/the-mystery-of-music-a-concert-for-children-of-all-ages/
LOCATION:Kupferberg Center for the Arts\, Lefrak Hall\, Queens College\, 65-30 Kissena BoulevardFlushing.NY 11367\, New York\, NY\, 10023\, United States
CATEGORIES:Concerts,Family Concerts
END:VEVENT
BEGIN:VEVENT
DTSTART;TZID=America/New_York:20230629T193000
DTEND;TZID=America/New_York:20230629T210000
DTSTAMP:20260422T172816
CREATED:20230626T034501Z
LAST-MODIFIED:20230626T034501Z
UID:1595-1688067000-1688072400@www.queenssymphony.org
SUMMARY:QUEENS SYMPHONY ORCHESTRA AT FOREST PARK
DESCRIPTION:Celebrate the Queens Symphony Orchestra’s 70th Anniversary with a concert of blockbuster patriotic tunes paying tribute to the birth of our nation.  Don’t miss us at Forest Park’s Opening Night Concert! \nADMISSION IS FREE!
URL:https://www.queenssymphony.org/event/queens-symphony-orchestra-at-forest-park/
LOCATION:Forest Park\, Myrtle Ave\, Woodhaven\, NY\, United States
CATEGORIES:Concert-On-The- Green
END:VEVENT
END:VCALENDAR