BEGIN:VCALENDAR
VERSION:2.0
PRODID:-//Queens Symphony Orchestra - ECPv6.15.20//NONSGML v1.0//EN
CALSCALE:GREGORIAN
METHOD:PUBLISH
X-ORIGINAL-URL:https://www.queenssymphony.org
X-WR-CALDESC:Events for Queens Symphony Orchestra
REFRESH-INTERVAL;VALUE=DURATION:PT1H
X-Robots-Tag:noindex
X-PUBLISHED-TTL:PT1H
BEGIN:VTIMEZONE
TZID:America/New_York
BEGIN:DAYLIGHT
TZOFFSETFROM:-0500
TZOFFSETTO:-0400
TZNAME:EDT
DTSTART:20220313T070000
END:DAYLIGHT
BEGIN:STANDARD
TZOFFSETFROM:-0400
TZOFFSETTO:-0500
TZNAME:EST
DTSTART:20221106T060000
END:STANDARD
BEGIN:DAYLIGHT
TZOFFSETFROM:-0500
TZOFFSETTO:-0400
TZNAME:EDT
DTSTART:20230312T070000
END:DAYLIGHT
BEGIN:STANDARD
TZOFFSETFROM:-0400
TZOFFSETTO:-0500
TZNAME:EST
DTSTART:20231105T060000
END:STANDARD
BEGIN:DAYLIGHT
TZOFFSETFROM:-0500
TZOFFSETTO:-0400
TZNAME:EDT
DTSTART:20240310T070000
END:DAYLIGHT
BEGIN:STANDARD
TZOFFSETFROM:-0400
TZOFFSETTO:-0500
TZNAME:EST
DTSTART:20241103T060000
END:STANDARD
END:VTIMEZONE
BEGIN:VEVENT
DTSTART;TZID=America/New_York:20230808T190000
DTEND;TZID=America/New_York:20230808T210000
DTSTAMP:20260422T142425
CREATED:20230626T042430Z
LAST-MODIFIED:20230626T042430Z
UID:1606-1691521200-1691528400@www.queenssymphony.org
SUMMARY:ST. JOHN'S UNIVERSITY 23rd ANNUAL SUMMER CONCERT ON THE GREAT LAWN
DESCRIPTION:
URL:https://www.queenssymphony.org/event/st-johns-university-23rd-annual-summer-concert-on-the-great-lawn/
LOCATION:St. John’s University\, Great Lawn\, 8000 Utopia Pkwy\, Jamaica\, NY\, 11439\, United States
END:VEVENT
END:VCALENDAR