BEGIN:VCALENDAR
VERSION:2.0
PRODID:-//Queens Symphony Orchestra - ECPv6.15.20//NONSGML v1.0//EN
CALSCALE:GREGORIAN
METHOD:PUBLISH
X-WR-CALNAME:Queens Symphony Orchestra
X-ORIGINAL-URL:https://www.queenssymphony.org
X-WR-CALDESC:Events for Queens Symphony Orchestra
REFRESH-INTERVAL;VALUE=DURATION:PT1H
X-Robots-Tag:noindex
X-PUBLISHED-TTL:PT1H
BEGIN:VTIMEZONE
TZID:America/New_York
BEGIN:DAYLIGHT
TZOFFSETFROM:-0500
TZOFFSETTO:-0400
TZNAME:EDT
DTSTART:20230312T070000
END:DAYLIGHT
BEGIN:STANDARD
TZOFFSETFROM:-0400
TZOFFSETTO:-0500
TZNAME:EST
DTSTART:20231105T060000
END:STANDARD
BEGIN:DAYLIGHT
TZOFFSETFROM:-0500
TZOFFSETTO:-0400
TZNAME:EDT
DTSTART:20240310T070000
END:DAYLIGHT
BEGIN:STANDARD
TZOFFSETFROM:-0400
TZOFFSETTO:-0500
TZNAME:EST
DTSTART:20241103T060000
END:STANDARD
BEGIN:DAYLIGHT
TZOFFSETFROM:-0500
TZOFFSETTO:-0400
TZNAME:EDT
DTSTART:20250309T070000
END:DAYLIGHT
BEGIN:STANDARD
TZOFFSETFROM:-0400
TZOFFSETTO:-0500
TZNAME:EST
DTSTART:20251102T060000
END:STANDARD
END:VTIMEZONE
BEGIN:VEVENT
DTSTART;TZID=America/New_York:20240510T193000
DTEND;TZID=America/New_York:20240510T210000
DTSTAMP:20260422T000622
CREATED:20240505T201725Z
LAST-MODIFIED:20240505T201725Z
UID:1796-1715369400-1715374800@www.queenssymphony.org
SUMMARY:Dances Old and New
DESCRIPTION:DANCES NEW AND OLD\n \nWilliam Grant Still: Danzas de Panama \n \nJohn Rutter: Suite Antique \n \nFranz Schubert: Symphony No. 5 \n \n\n \nFriday\, May 10\, 2024 at 7:30 PM\n \nFlushing Town Hall 137-35 Northern Blvd.\, Flushing\, NY 11354 \n \n\nFREE ADMISSION – RESERVATIONS ARE REQUIRED
URL:https://www.queenssymphony.org/event/dances-old-and-new/
LOCATION:Flushing Town Hall\, 137-35 Northern Boulevard\, Queens\, NY\, 11354\, United States
END:VEVENT
BEGIN:VEVENT
DTSTART;TZID=America/New_York:20240513T190000
DTEND;TZID=America/New_York:20240513T203000
DTSTAMP:20260422T000622
CREATED:20240505T200327Z
LAST-MODIFIED:20240505T200327Z
UID:1793-1715626800-1715632200@www.queenssymphony.org
SUMMARY:A NIGHT AT THE OPERA\, TAKE 7!
DESCRIPTION:A NIGHT AT THE OPERA \nDon’t miss your favorite operatic arias and duets\nperformed by two of opera’s rising stars. \nTeresa Castillo\, Soprano\nJordan Weatherson Pitts\, Tenor\n The Queens Symphony Orchestra\nMartin Majkut\, Conductor \nWorks by Donizetti\, Mozart\, Puccini\, Verdi\, Gounod\, & Massenet \nMonday Evening\, May 13\, 2024\n7:00 PM\n(Doors Open at 6:30 PM)\nRusso’s on the Bay\n162-45 Cross Bay Boulevard\nHoward Beach New York NY 11414\nADMISSION IS FREE\nFor reservations and information\, please see below. \nFor questions about accessibility or reservations\, please call\n(718) 738-1083.\nTo request additional accommodations\, please call at least\nthree business days before the event.
URL:https://www.queenssymphony.org/event/a-night-at-the-opera-take-7/
LOCATION:Russo’s on the Bay\, 162-45 Cross Bay Blvd\, Howard Beach\, NY\, United States
END:VEVENT
END:VCALENDAR